BEGIN:VCALENDAR
VERSION:2.0
PRODID:-//The Patrician Society - ECPv6.15.16//NONSGML v1.0//EN
CALSCALE:GREGORIAN
METHOD:PUBLISH
X-ORIGINAL-URL:https://thepatriciansociety.org
X-WR-CALDESC:Events for The Patrician Society
REFRESH-INTERVAL;VALUE=DURATION:PT1H
X-Robots-Tag:noindex
X-PUBLISHED-TTL:PT1H
BEGIN:VTIMEZONE
TZID:Asia/Shanghai
BEGIN:STANDARD
TZOFFSETFROM:+0800
TZOFFSETTO:+0800
TZNAME:CST
DTSTART:20160101T000000
END:STANDARD
END:VTIMEZONE
BEGIN:VEVENT
DTSTART;TZID=Asia/Shanghai:20170301T080000
DTEND;TZID=Asia/Shanghai:20170301T080000
DTSTAMP:20260416T111424
CREATED:20170627T214438Z
LAST-MODIFIED:20170627T214438Z
UID:1394-1488355200-1488355200@thepatriciansociety.org
SUMMARY:Ash Wednesday
DESCRIPTION:
URL:https://thepatriciansociety.org/event/ash-wednesday/
CATEGORIES:La Sallian Events
END:VEVENT
BEGIN:VEVENT
DTSTART;TZID=Asia/Shanghai:20170303T080000
DTEND;TZID=Asia/Shanghai:20170414T080000
DTSTAMP:20260416T111424
CREATED:20170627T214747Z
LAST-MODIFIED:20170627T214747Z
UID:1398-1488528000-1492156800@thepatriciansociety.org
SUMMARY:Stations of the Cross
DESCRIPTION:
URL:https://thepatriciansociety.org/event/stations-of-the-cross/
CATEGORIES:La Sallian Events
END:VEVENT
BEGIN:VEVENT
DTSTART;TZID=Asia/Shanghai:20170311T160000
DTEND;TZID=Asia/Shanghai:20170319T010000
DTSTAMP:20260416T111424
CREATED:20170627T195656Z
LAST-MODIFIED:20170627T195806Z
UID:1331-1489248000-1489885200@thepatriciansociety.org
SUMMARY:Term Break 1
DESCRIPTION:
URL:https://thepatriciansociety.org/event/term-break-1/
CATEGORIES:School Events
END:VEVENT
BEGIN:VEVENT
DTSTART;VALUE=DATE:20170317
DTEND;VALUE=DATE:20170319
DTSTAMP:20260416T111424
CREATED:20170627T214533Z
LAST-MODIFIED:20170627T214533Z
UID:1396-1489737600-1489823999@thepatriciansociety.org
SUMMARY:Feast of St Patrick's
DESCRIPTION:
URL:https://thepatriciansociety.org/event/feast-st-patricks/
CATEGORIES:La Sallian Events
END:VEVENT
BEGIN:VEVENT
DTSTART;VALUE=DATE:20170319
DTEND;VALUE=DATE:20170321
DTSTAMP:20260416T111424
CREATED:20170627T202006Z
LAST-MODIFIED:20170627T202006Z
UID:1377-1489910400-1489996799@thepatriciansociety.org
SUMMARY:St Patrick's Day Parade
DESCRIPTION:Boat Quay
URL:https://thepatriciansociety.org/event/st-patricks-day-parade/
CATEGORIES:TPS Events
END:VEVENT
END:VCALENDAR