BEGIN:VCALENDAR
VERSION:2.0
PRODID:-//The Patrician Society - ECPv6.15.16//NONSGML v1.0//EN
CALSCALE:GREGORIAN
METHOD:PUBLISH
X-ORIGINAL-URL:https://thepatriciansociety.org
X-WR-CALDESC:Events for The Patrician Society
REFRESH-INTERVAL;VALUE=DURATION:PT1H
X-Robots-Tag:noindex
X-PUBLISHED-TTL:PT1H
BEGIN:VTIMEZONE
TZID:Asia/Shanghai
BEGIN:STANDARD
TZOFFSETFROM:+0800
TZOFFSETTO:+0800
TZNAME:CST
DTSTART:20160101T000000
END:STANDARD
END:VTIMEZONE
BEGIN:VEVENT
DTSTART;TZID=Asia/Shanghai:20170303T080000
DTEND;TZID=Asia/Shanghai:20170414T080000
DTSTAMP:20260416T111411
CREATED:20170627T214747Z
LAST-MODIFIED:20170627T214747Z
UID:1398-1488528000-1492156800@thepatriciansociety.org
SUMMARY:Stations of the Cross
DESCRIPTION:
URL:https://thepatriciansociety.org/event/stations-of-the-cross/
CATEGORIES:La Sallian Events
END:VEVENT
BEGIN:VEVENT
DTSTART;VALUE=DATE:20170404
DTEND;VALUE=DATE:20170406
DTSTAMP:20260416T111411
CREATED:20170627T200147Z
LAST-MODIFIED:20170627T200147Z
UID:1339-1491292800-1491379199@thepatriciansociety.org
SUMMARY:Founders Day
DESCRIPTION:
URL:https://thepatriciansociety.org/event/founders-day/
CATEGORIES:School Events
END:VEVENT
BEGIN:VEVENT
DTSTART;TZID=Asia/Shanghai:20170406T080000
DTEND;TZID=Asia/Shanghai:20170406T080000
DTSTAMP:20260416T111411
CREATED:20170627T200244Z
LAST-MODIFIED:20170627T200244Z
UID:1341-1491465600-1491465600@thepatriciansociety.org
SUMMARY:Speech Day
DESCRIPTION:
URL:https://thepatriciansociety.org/event/speech-day/
CATEGORIES:School Events
END:VEVENT
BEGIN:VEVENT
DTSTART;TZID=Asia/Shanghai:20170406T180000
DTEND;TZID=Asia/Shanghai:20170406T200000
DTSTAMP:20260416T111411
CREATED:20170627T220004Z
LAST-MODIFIED:20170627T220122Z
UID:1409-1491501600-1491508800@thepatriciansociety.org
SUMMARY:Official Opening Of Indoor Sports Hall
DESCRIPTION:
URL:https://thepatriciansociety.org/event/official-opening-indoor-sports-hall/
CATEGORIES:School Events
END:VEVENT
BEGIN:VEVENT
DTSTART;VALUE=DATE:20170407
DTEND;VALUE=DATE:20170409
DTSTAMP:20260416T111411
CREATED:20170627T214911Z
LAST-MODIFIED:20170627T214911Z
UID:1400-1491552000-1491638399@thepatriciansociety.org
SUMMARY:Founders Day - 165th Anniversary in Singapore
DESCRIPTION:
URL:https://thepatriciansociety.org/event/founders-day-165th-anniversary-singapore/
CATEGORIES:La Sallian Events
END:VEVENT
BEGIN:VEVENT
DTSTART;TZID=Asia/Shanghai:20170407T080000
DTEND;TZID=Asia/Shanghai:20170407T080000
DTSTAMP:20260416T111411
CREATED:20170627T200337Z
LAST-MODIFIED:20170627T200337Z
UID:1344-1491552000-1491552000@thepatriciansociety.org
SUMMARY:International Friendship Day
DESCRIPTION:
URL:https://thepatriciansociety.org/event/international-friendship-day/
CATEGORIES:School Events
END:VEVENT
BEGIN:VEVENT
DTSTART;TZID=Asia/Shanghai:20170413T080000
DTEND;TZID=Asia/Shanghai:20170413T080000
DTSTAMP:20260416T111411
CREATED:20170627T215046Z
LAST-MODIFIED:20170627T215046Z
UID:1402-1492070400-1492070400@thepatriciansociety.org
SUMMARY:Maundy Thursday - Washing Of The Feet
DESCRIPTION:
URL:https://thepatriciansociety.org/event/maundy-thursday-washing-feet/
CATEGORIES:La Sallian Events
END:VEVENT
BEGIN:VEVENT
DTSTART;TZID=Asia/Shanghai:20170417T080000
DTEND;TZID=Asia/Shanghai:20170417T080000
DTSTAMP:20260416T111411
CREATED:20170627T215159Z
LAST-MODIFIED:20170627T215159Z
UID:1404-1492416000-1492416000@thepatriciansociety.org
SUMMARY:Easter Monday
DESCRIPTION:
URL:https://thepatriciansociety.org/event/easter-monday/
CATEGORIES:La Sallian Events
END:VEVENT
END:VCALENDAR