BEGIN:VCALENDAR
VERSION:2.0
PRODID:-//The Patrician Society - ECPv6.15.16//NONSGML v1.0//EN
CALSCALE:GREGORIAN
METHOD:PUBLISH
X-ORIGINAL-URL:https://thepatriciansociety.org
X-WR-CALDESC:Events for The Patrician Society
REFRESH-INTERVAL;VALUE=DURATION:PT1H
X-Robots-Tag:noindex
X-PUBLISHED-TTL:PT1H
BEGIN:VTIMEZONE
TZID:Asia/Shanghai
BEGIN:STANDARD
TZOFFSETFROM:+0800
TZOFFSETTO:+0800
TZNAME:CST
DTSTART:20160101T000000
END:STANDARD
END:VTIMEZONE
BEGIN:VEVENT
DTSTART;VALUE=DATE:20171012
DTEND;VALUE=DATE:20171014
DTSTAMP:20260416T111553
CREATED:20170627T200955Z
LAST-MODIFIED:20170627T203008Z
UID:1362-1507795200-1507881599@thepatriciansociety.org
SUMMARY:Sports Day
DESCRIPTION:
URL:https://thepatriciansociety.org/event/sports-day/
CATEGORIES:School Events,TPS Events
END:VEVENT
END:VCALENDAR