BEGIN:VCALENDAR
VERSION:2.0
PRODID:-//The Patrician Society - ECPv6.15.16//NONSGML v1.0//EN
CALSCALE:GREGORIAN
METHOD:PUBLISH
X-WR-CALNAME:The Patrician Society
X-ORIGINAL-URL:https://thepatriciansociety.org
X-WR-CALDESC:Events for The Patrician Society
REFRESH-INTERVAL;VALUE=DURATION:PT1H
X-Robots-Tag:noindex
X-PUBLISHED-TTL:PT1H
BEGIN:VTIMEZONE
TZID:Asia/Shanghai
BEGIN:STANDARD
TZOFFSETFROM:+0800
TZOFFSETTO:+0800
TZNAME:CST
DTSTART:20160101T000000
END:STANDARD
END:VTIMEZONE
BEGIN:VEVENT
DTSTART;VALUE=DATE:20171125
DTEND;VALUE=DATE:20171127
DTSTAMP:20260416T040621
CREATED:20170627T201332Z
LAST-MODIFIED:20170627T202810Z
UID:1368-1511596800-1511683199@thepatriciansociety.org
SUMMARY:Open House 2017
DESCRIPTION:
URL:https://thepatriciansociety.org/event/open-house-2017-2/
CATEGORIES:School Events
END:VEVENT
END:VCALENDAR