BEGIN:VCALENDAR
VERSION:2.0
PRODID:-//The Patrician Society - ECPv6.15.16//NONSGML v1.0//EN
CALSCALE:GREGORIAN
METHOD:PUBLISH
X-ORIGINAL-URL:https://thepatriciansociety.org
X-WR-CALDESC:Events for The Patrician Society
REFRESH-INTERVAL;VALUE=DURATION:PT1H
X-Robots-Tag:noindex
X-PUBLISHED-TTL:PT1H
BEGIN:VTIMEZONE
TZID:Asia/Shanghai
BEGIN:STANDARD
TZOFFSETFROM:+0800
TZOFFSETTO:+0800
TZNAME:CST
DTSTART:20170101T000000
END:STANDARD
END:VTIMEZONE
BEGIN:VEVENT
DTSTART;TZID=Asia/Shanghai:20180901T123000
DTEND;TZID=Asia/Shanghai:20180901T140000
DTSTAMP:20260415T043702
CREATED:20180824T035540Z
LAST-MODIFIED:20180824T040032Z
UID:3432-1535805000-1535810400@thepatriciansociety.org
SUMMARY:TPS Annual General Meeting 2018
DESCRIPTION:Download Agenda | Download Proxy Form \n \nDownload Agenda | Download Proxy Form
URL:https://thepatriciansociety.org/event/tps-annual-general-meeting-2018/
LOCATION:Heritage Room
CATEGORIES:TPS Events
END:VEVENT
BEGIN:VEVENT
DTSTART;TZID=Asia/Shanghai:20180901T150000
DTEND;TZID=Asia/Shanghai:20180901T170000
DTSTAMP:20260415T043702
CREATED:20180820T024825Z
LAST-MODIFIED:20180820T031651Z
UID:3418-1535814000-1535821200@thepatriciansociety.org
SUMMARY:An Afternoon Tea With Our Former Teachers 2018
DESCRIPTION:Once again\, with great pleasure\, we are hosting a tea reception for our formers teachers.\nWe are inviting our alumini to join us in this reunion. \nSaturday\, 1st September 2018  @ Heritage Room ( former library )\n3pm to 5pm \nYour Love offering is appreciated ( cost per head $15)
URL:https://thepatriciansociety.org/event/afternoon-tea-former-teachers-2018/
LOCATION:Heritage Room
ORGANIZER;CN="The Patrician Society":MAILTO:ThePatricianSocietySg@gmail.com
END:VEVENT
END:VCALENDAR