BEGIN:VCALENDAR
VERSION:2.0
PRODID:-//The Patrician Society - ECPv6.15.16//NONSGML v1.0//EN
CALSCALE:GREGORIAN
METHOD:PUBLISH
X-WR-CALNAME:The Patrician Society
X-ORIGINAL-URL:https://thepatriciansociety.org
X-WR-CALDESC:Events for The Patrician Society
REFRESH-INTERVAL;VALUE=DURATION:PT1H
X-Robots-Tag:noindex
X-PUBLISHED-TTL:PT1H
BEGIN:VTIMEZONE
TZID:Asia/Shanghai
BEGIN:STANDARD
TZOFFSETFROM:+0800
TZOFFSETTO:+0800
TZNAME:CST
DTSTART:20170101T000000
END:STANDARD
END:VTIMEZONE
BEGIN:VEVENT
DTSTART;TZID=Asia/Shanghai:20181117T180000
DTEND;TZID=Asia/Shanghai:20181117T230000
DTSTAMP:20260416T104618
CREATED:20180315T064358Z
LAST-MODIFIED:20180820T020714Z
UID:3184-1542477600-1542495600@thepatriciansociety.org
SUMMARY:The Patrician 85th Anniversary Dinner
DESCRIPTION:Date:      Saturday\, 17 November 2018\nVenue:   Fairmont Hotel\, Ballroom Level 4 \nTime:      6pm \nTickets:  $1\,380 per table\, $150 per head \nCall the School @ 6344 0929 for tickets
URL:https://thepatriciansociety.org/event/patrician-85th-anniversary-dinner/
LOCATION:Fairmont Singapore\, 80 Bras Basah Road\, 189560\, Singapore
CATEGORIES:La Sallian Events,School Events,TPS Events
END:VEVENT
END:VCALENDAR