BEGIN:VCALENDAR
VERSION:2.0
PRODID:-//The Patrician Society - ECPv6.15.16//NONSGML v1.0//EN
CALSCALE:GREGORIAN
METHOD:PUBLISH
X-WR-CALNAME:The Patrician Society
X-ORIGINAL-URL:https://thepatriciansociety.org
X-WR-CALDESC:Events for The Patrician Society
REFRESH-INTERVAL;VALUE=DURATION:PT1H
X-Robots-Tag:noindex
X-PUBLISHED-TTL:PT1H
BEGIN:VTIMEZONE
TZID:Asia/Shanghai
BEGIN:STANDARD
TZOFFSETFROM:+0800
TZOFFSETTO:+0800
TZNAME:CST
DTSTART:20180101T000000
END:STANDARD
END:VTIMEZONE
BEGIN:VEVENT
DTSTART;TZID=Asia/Shanghai:20190406T143000
DTEND;TZID=Asia/Shanghai:20190406T170000
DTSTAMP:20260416T105020
CREATED:20190417T171341Z
LAST-MODIFIED:20190417T171341Z
UID:3987-1554561000-1554570000@thepatriciansociety.org
SUMMARY:#300 Lasalle Tercentenary Celebration Mass
DESCRIPTION:﻿
URL:https://thepatriciansociety.org/event/300-lasalle-tercentenary-celebration-mass/
LOCATION:Cathedral of The Good Shepred
CATEGORIES:La Sallian Events,School Events,TPS Events
END:VEVENT
BEGIN:VEVENT
DTSTART;TZID=Asia/Shanghai:20190430T190000
DTEND;TZID=Asia/Shanghai:20190430T223000
DTSTAMP:20260416T105020
CREATED:20190417T172543Z
LAST-MODIFIED:20190418T033645Z
UID:3990-1556650800-1556663400@thepatriciansociety.org
SUMMARY:#300 Lassalle Founder's Day Dinner
DESCRIPTION:𝗧𝗵𝗲 𝘂𝗻𝗱𝗲𝗿𝗹𝗶𝗻𝗶𝗻𝗴 𝗽𝘂𝗿𝗽𝗼𝘀𝗲 𝗼𝗳 𝘁𝗵𝗶𝘀 𝗱𝗶𝗻𝗻𝗲𝗿 𝗶𝘀 𝗮 𝗿𝗮𝗹𝗹𝘆 𝗽𝗼𝗶𝗻𝘁❟ 𝘀𝗵𝗼𝘄𝗰𝗮𝘀𝗶𝗻𝗴 𝗼𝘂𝗿 𝘀𝗼𝗹𝗶𝗱𝗮𝗿𝗶𝘁𝘆 𝘄𝗶𝘁𝗵 𝗼𝘂𝗿 𝗟𝗮𝘀𝘀𝗮𝗹𝗹𝗶𝗮𝗻 𝘃𝗮𝗹𝘂𝗲𝘀;  𝗧𝗼 𝗹𝗶𝘃𝗲 𝗮𝗻𝗱 𝗽𝗿𝗮𝗰𝘁𝗶𝗰𝗲 𝘁𝗵𝗲 𝘂𝗻𝗶𝘃𝗲𝗿𝘀𝗮𝗹 𝘃𝗮𝗹𝘂𝗲𝘀 𝗼𝗳 𝗙𝗮𝗶𝘁𝗵❟ 𝗦𝗲𝗿𝘃𝗶𝗰𝗲 𝗮𝗻𝗱 𝗖𝗼𝗺𝗺𝘂𝗻𝗶𝘁𝘆. \n𝗪𝗲 𝗵𝗮𝘃𝗲 𝗮𝗹𝗹 𝗯𝗲𝗻𝗲𝗳𝗶𝘁𝘁𝗲𝗱 𝗳𝗿𝗼𝗺 𝗶𝘁 𝗮𝗻𝗱 𝘄𝗲 𝘄𝗮𝗻𝘁 𝘁𝗵𝗲𝘀𝗲 𝘃𝗮𝗹𝘂𝗲𝘀 𝘁𝗼 𝗰𝗼𝗻𝘁𝗶𝗻𝘂𝗲 𝘁𝗼 𝘀𝘁𝗮𝗻𝗱 𝘀𝘁𝗲𝗮𝗱𝗳𝗮𝘀𝘁 𝘄𝗶𝘁𝗵 𝘀𝘂𝗰𝗰𝗲𝘀𝘀𝗶𝘃𝗲 𝗴𝗲𝗻𝗲𝗿𝗮𝘁𝗶𝗼𝗻𝘀 𝗼𝗳 𝗴𝗿𝗮𝗱𝘂𝗮𝘁𝗲𝘀 𝗳𝗿𝗼𝗺 𝗼𝘂𝗿 𝗟𝗮𝘀𝗮𝗹𝗹𝗶𝗮𝗻 𝗦𝗰𝗵𝗼𝗼𝗹𝘀. 𝗟𝗲𝘁 𝘂𝘀 𝗟𝗮𝘀𝗮𝗹𝗹𝗶𝗮𝗻𝘀 𝗰𝗼𝗻𝘁𝗶𝗻𝘂𝗲 𝘁𝗼 𝗺𝗮𝗸𝗲 𝗮 𝗽𝗼𝘀𝗶𝘁𝗶𝘃𝗲 𝗶𝗺𝗽𝗮𝗰𝘁 𝗶𝗻 𝗯𝗼𝘁𝗵 𝗽𝘂𝗯𝗹𝗶𝗰 𝗮𝗻𝗱 𝗽𝗿𝗶𝘃𝗮𝘁𝗲 𝘀𝗲𝗰𝘁𝗼𝗿𝘀 𝗮𝗻𝗱 𝘁𝗵𝗮𝘁 𝘄𝗲 𝗰𝗼𝗻𝘁𝗶𝗻𝘂𝗲 𝗹𝗼𝗼𝗸𝗶𝗻𝗴 𝗼𝘂𝘁 𝗮𝗳𝘁𝗲𝗿 𝘁𝗵𝗲 𝗟𝗮𝘀𝘁❟ 𝘁𝗵𝗲 𝗟𝗲𝗮𝘀𝘁 𝗮𝗻𝗱 𝘁𝗵𝗲 𝗟𝗼𝘀𝘁.
URL:https://thepatriciansociety.org/event/300-lassalle-founders-day-dinner/
LOCATION:Jubilee Garden Restaurant\, SAFRA Toa Payoh\, Singapore
CATEGORIES:La Sallian Events,School Events,TPS Events
END:VEVENT
END:VCALENDAR