BEGIN:VCALENDAR
VERSION:2.0
PRODID:-//The Patrician Society - ECPv6.15.16//NONSGML v1.0//EN
CALSCALE:GREGORIAN
METHOD:PUBLISH
X-WR-CALNAME:The Patrician Society
X-ORIGINAL-URL:https://thepatriciansociety.org
X-WR-CALDESC:Events for The Patrician Society
REFRESH-INTERVAL;VALUE=DURATION:PT1H
X-Robots-Tag:noindex
X-PUBLISHED-TTL:PT1H
BEGIN:VTIMEZONE
TZID:Asia/Shanghai
BEGIN:STANDARD
TZOFFSETFROM:+0800
TZOFFSETTO:+0800
TZNAME:CST
DTSTART:20180101T000000
END:STANDARD
END:VTIMEZONE
BEGIN:VEVENT
DTSTART;TZID=Asia/Shanghai:20190906T183000
DTEND;TZID=Asia/Shanghai:20190906T200000
DTSTAMP:20260416T105032
CREATED:20190827T074506Z
LAST-MODIFIED:20190827T074506Z
UID:4409-1567794600-1567800000@thepatriciansociety.org
SUMMARY:Special Mass for Graduating Classes/Examination Prayer
DESCRIPTION:Date: 6th September 2019 (Friday)\nTime: 6.30pm – 8pm\nVenue: Chapel\nParents are welcome to attend the Mass with your son/sons.
URL:https://thepatriciansociety.org/event/special-mass-for-graduating-classes-examination-prayer/
LOCATION:St Patrick’s School Chapel
CATEGORIES:School Events
END:VEVENT
BEGIN:VEVENT
DTSTART;TZID=Asia/Shanghai:20190914T123000
DTEND;TZID=Asia/Shanghai:20190914T140000
DTSTAMP:20260416T105032
CREATED:20190820T030441Z
LAST-MODIFIED:20190820T071651Z
UID:4352-1568464200-1568469600@thepatriciansociety.org
SUMMARY:TPS General Meeting 2019
DESCRIPTION:The Patrician Society is seeking the next team to represent the alumni interests and concerns to both the school and to the De La Salle Brothers. \nWe seek Patricians of all generations to be available to contribute as members your talent\, knowledge and viewpoints to build bridges amongst the School\, the Brothers and the alumni; through our committees\, activities and events.
URL:https://thepatriciansociety.org/event/tps-general-meeting-2019/
LOCATION:Heritage Room
CATEGORIES:TPS Events
END:VEVENT
BEGIN:VEVENT
DTSTART;TZID=Asia/Shanghai:20190914T150000
DTEND;TZID=Asia/Shanghai:20190914T170000
DTSTAMP:20260416T105032
CREATED:20190820T030727Z
LAST-MODIFIED:20190820T071315Z
UID:4355-1568473200-1568480400@thepatriciansociety.org
SUMMARY:An Afternoon Tea With Our Former Teachers 2019
DESCRIPTION:Teachers\, formators for some of us they are tormentors. We grew up learning to appreciate their dedication and passion\, expressed in their own unique style. This is an opportunity to re-connect with them and express our thanks and appreciation to them.
URL:https://thepatriciansociety.org/event/an-afternoon-tea-with-our-former-teachers-2019/
LOCATION:Heritage Room
CATEGORIES:TPS Events
END:VEVENT
END:VCALENDAR