BEGIN:VCALENDAR
VERSION:2.0
PRODID:-//The Patrician Society - ECPv6.15.16//NONSGML v1.0//EN
CALSCALE:GREGORIAN
METHOD:PUBLISH
X-ORIGINAL-URL:https://thepatriciansociety.org
X-WR-CALDESC:Events for The Patrician Society
REFRESH-INTERVAL;VALUE=DURATION:PT1H
X-Robots-Tag:noindex
X-PUBLISHED-TTL:PT1H
BEGIN:VTIMEZONE
TZID:Asia/Shanghai
BEGIN:STANDARD
TZOFFSETFROM:+0800
TZOFFSETTO:+0800
TZNAME:CST
DTSTART:20210101T000000
END:STANDARD
END:VTIMEZONE
BEGIN:VEVENT
DTSTART;TZID=Asia/Shanghai:20220903T130000
DTEND;TZID=Asia/Shanghai:20220903T143000
DTSTAMP:20260416T114809
CREATED:20220816T103110Z
LAST-MODIFIED:20220816T110054Z
UID:6130-1662210000-1662215400@thepatriciansociety.org
SUMMARY:TPS Hybrid Annual General Meeting 2022
DESCRIPTION:AGM 2022 PROXY FORM
URL:https://thepatriciansociety.org/event/tps-hybrid-annual-general-meeting-2022/
LOCATION:St Patrick’s School Heritage Room & Teams Meeting
CATEGORIES:TPS Events
END:VEVENT
END:VCALENDAR