BEGIN:VCALENDAR
VERSION:2.0
PRODID:-//The Patrician Society - ECPv6.15.16//NONSGML v1.0//EN
CALSCALE:GREGORIAN
METHOD:PUBLISH
X-WR-CALNAME:The Patrician Society
X-ORIGINAL-URL:https://thepatriciansociety.org
X-WR-CALDESC:Events for The Patrician Society
REFRESH-INTERVAL;VALUE=DURATION:PT1H
X-Robots-Tag:noindex
X-PUBLISHED-TTL:PT1H
BEGIN:VTIMEZONE
TZID:Asia/Shanghai
BEGIN:STANDARD
TZOFFSETFROM:+0800
TZOFFSETTO:+0800
TZNAME:CST
DTSTART:20180101T000000
END:STANDARD
END:VTIMEZONE
BEGIN:VEVENT
DTSTART;TZID=Asia/Shanghai:20190914T150000
DTEND;TZID=Asia/Shanghai:20190914T170000
DTSTAMP:20260422T193531
CREATED:20190820T030727Z
LAST-MODIFIED:20190820T071315Z
UID:4355-1568473200-1568480400@thepatriciansociety.org
SUMMARY:An Afternoon Tea With Our Former Teachers 2019
DESCRIPTION:Teachers\, formators for some of us they are tormentors. We grew up learning to appreciate their dedication and passion\, expressed in their own unique style. This is an opportunity to re-connect with them and express our thanks and appreciation to them.
URL:https://thepatriciansociety.org/event/an-afternoon-tea-with-our-former-teachers-2019/
LOCATION:Heritage Room
CATEGORIES:TPS Events
END:VEVENT
END:VCALENDAR